BEGIN:VCALENDAR
VERSION:2.0
PRODID:-//Spatzennest - ECPv6.15.20//NONSGML v1.0//EN
CALSCALE:GREGORIAN
METHOD:PUBLISH
X-WR-CALNAME:Spatzennest
X-ORIGINAL-URL:https://spatzennest-penzberg.de
X-WR-CALDESC:Veranstaltungen für Spatzennest
REFRESH-INTERVAL;VALUE=DURATION:PT1H
X-Robots-Tag:noindex
X-PUBLISHED-TTL:PT1H
BEGIN:VTIMEZONE
TZID:Europe/Berlin
BEGIN:DAYLIGHT
TZOFFSETFROM:+0100
TZOFFSETTO:+0200
TZNAME:CEST
DTSTART:20230326T010000
END:DAYLIGHT
BEGIN:STANDARD
TZOFFSETFROM:+0200
TZOFFSETTO:+0100
TZNAME:CET
DTSTART:20231029T010000
END:STANDARD
BEGIN:DAYLIGHT
TZOFFSETFROM:+0100
TZOFFSETTO:+0200
TZNAME:CEST
DTSTART:20240331T010000
END:DAYLIGHT
BEGIN:STANDARD
TZOFFSETFROM:+0200
TZOFFSETTO:+0100
TZNAME:CET
DTSTART:20241027T010000
END:STANDARD
BEGIN:DAYLIGHT
TZOFFSETFROM:+0100
TZOFFSETTO:+0200
TZNAME:CEST
DTSTART:20250330T010000
END:DAYLIGHT
BEGIN:STANDARD
TZOFFSETFROM:+0200
TZOFFSETTO:+0100
TZNAME:CET
DTSTART:20251026T010000
END:STANDARD
BEGIN:DAYLIGHT
TZOFFSETFROM:+0100
TZOFFSETTO:+0200
TZNAME:CEST
DTSTART:20260329T010000
END:DAYLIGHT
BEGIN:STANDARD
TZOFFSETFROM:+0200
TZOFFSETTO:+0100
TZNAME:CET
DTSTART:20261025T010000
END:STANDARD
BEGIN:DAYLIGHT
TZOFFSETFROM:+0100
TZOFFSETTO:+0200
TZNAME:CEST
DTSTART:20270328T010000
END:DAYLIGHT
BEGIN:STANDARD
TZOFFSETFROM:+0200
TZOFFSETTO:+0100
TZNAME:CET
DTSTART:20271031T010000
END:STANDARD
END:VTIMEZONE
BEGIN:VEVENT
DTSTART;VALUE=DATE:20260326
DTEND;VALUE=DATE:20260327
DTSTAMP:20260424T112035
CREATED:20251113T082718Z
LAST-MODIFIED:20251113T082718Z
UID:2468-1774483200-1774569599@spatzennest-penzberg.de
SUMMARY:der Osterhase kommt
DESCRIPTION:
URL:https://spatzennest-penzberg.de/termine/der-osterhase-kommt-2/
CATEGORIES:Kindergarten,Kinderkrippe,Spatzennest
END:VEVENT
BEGIN:VEVENT
DTSTART;VALUE=DATE:20260309
DTEND;VALUE=DATE:20260310
DTSTAMP:20260424T112035
CREATED:20251113T082650Z
LAST-MODIFIED:20251113T082650Z
UID:2466-1773014400-1773100799@spatzennest-penzberg.de
SUMMARY:Konzepttag
DESCRIPTION:Spatzennest geschlossen
URL:https://spatzennest-penzberg.de/termine/konzepttag/
CATEGORIES:Kindergarten,Kinderkrippe,Spatzennest
END:VEVENT
BEGIN:VEVENT
DTSTART;VALUE=DATE:20260213
DTEND;VALUE=DATE:20260214
DTSTAMP:20260424T112035
CREATED:20251113T082428Z
LAST-MODIFIED:20251113T082428Z
UID:2460-1770940800-1771027199@spatzennest-penzberg.de
SUMMARY:Fasching im Spatzennest
DESCRIPTION:mit Auftritt der Penzberger Garde
URL:https://spatzennest-penzberg.de/termine/fasching-im-spatzennest/
END:VEVENT
BEGIN:VEVENT
DTSTART;VALUE=DATE:20260212
DTEND;VALUE=DATE:20260213
DTSTAMP:20260424T112035
CREATED:20251113T082320Z
LAST-MODIFIED:20251113T083110Z
UID:2458-1770854400-1770940799@spatzennest-penzberg.de
SUMMARY:Schlafanzugtag
DESCRIPTION:Wir wecken den Fasching auf
URL:https://spatzennest-penzberg.de/termine/schlafanzugtag/
CATEGORIES:Kindergarten,Kinderkrippe,Spatzennest
END:VEVENT
BEGIN:VEVENT
DTSTART;TZID=Europe/Berlin:20260207T100000
DTEND;TZID=Europe/Berlin:20260207T120000
DTSTAMP:20260424T112035
CREATED:20251113T093933Z
LAST-MODIFIED:20251113T093933Z
UID:2498-1770458400-1770465600@spatzennest-penzberg.de
SUMMARY:Tag der offenen Tür
DESCRIPTION:
URL:https://spatzennest-penzberg.de/termine/tag-der-offenen-tuer-3/
CATEGORIES:Kindergarten,Kinderkrippe,Spatzennest
END:VEVENT
BEGIN:VEVENT
DTSTART;VALUE=DATE:20251224
DTEND;VALUE=DATE:20260107
DTSTAMP:20260424T112035
CREATED:20250129T084949Z
LAST-MODIFIED:20250903T084155Z
UID:2149-1766534400-1767743999@spatzennest-penzberg.de
SUMMARY:Weihnachtsschließzeit
DESCRIPTION:Spatzennest geschlossen
URL:https://spatzennest-penzberg.de/termine/weihnachtsschliesszeit-3/
CATEGORIES:Kindergarten,Kinderkrippe,Spatzennest
END:VEVENT
BEGIN:VEVENT
DTSTART;TZID=Europe/Berlin:20251215T170000
DTEND;TZID=Europe/Berlin:20251215T190000
DTSTAMP:20260424T112035
CREATED:20251113T082609Z
LAST-MODIFIED:20251113T082609Z
UID:2464-1765818000-1765825200@spatzennest-penzberg.de
SUMMARY:Winterfest in der Krippe
DESCRIPTION:
URL:https://spatzennest-penzberg.de/termine/winterfest-in-der-krippe/
CATEGORIES:Kinderkrippe
END:VEVENT
BEGIN:VEVENT
DTSTART;TZID=Europe/Berlin:20251210T170000
DTEND;TZID=Europe/Berlin:20251210T190000
DTSTAMP:20260424T112035
CREATED:20251113T082519Z
LAST-MODIFIED:20251113T082519Z
UID:2462-1765386000-1765393200@spatzennest-penzberg.de
SUMMARY:Wintermarkt im Kindergarten
DESCRIPTION:
URL:https://spatzennest-penzberg.de/termine/wintermarkt-im-kindergarten/
CATEGORIES:Kindergarten
END:VEVENT
BEGIN:VEVENT
DTSTART;VALUE=DATE:20251205
DTEND;VALUE=DATE:20251206
DTSTAMP:20260424T112035
CREATED:20251113T082119Z
LAST-MODIFIED:20251113T082119Z
UID:2456-1764892800-1764979199@spatzennest-penzberg.de
SUMMARY:Christbaumschmücken Edeka Penzberg
DESCRIPTION:
URL:https://spatzennest-penzberg.de/termine/christbaumschmuecken-edeka-penzberg/
CATEGORIES:Kindergarten
END:VEVENT
BEGIN:VEVENT
DTSTART;TZID=Europe/Berlin:20251129T110000
DTEND;TZID=Europe/Berlin:20251129T210000
DTSTAMP:20260424T112035
CREATED:20251113T093849Z
LAST-MODIFIED:20251113T093903Z
UID:2496-1764414000-1764450000@spatzennest-penzberg.de
SUMMARY:Christkindlmarkt Penzberg
DESCRIPTION:der Elternbeirat betreibt einen Stand für das Spatzennest am Christkindlmarkt Penzberg
URL:https://spatzennest-penzberg.de/termine/christkindlmarkt-penzberg/
CATEGORIES:Spatzennest
END:VEVENT
BEGIN:VEVENT
DTSTART;VALUE=DATE:20250901
DTEND;VALUE=DATE:20250902
DTSTAMP:20260424T112035
CREATED:20250129T084855Z
LAST-MODIFIED:20250129T084908Z
UID:2147-1756684800-1756771199@spatzennest-penzberg.de
SUMMARY:päd. Plantag
DESCRIPTION:Spatzennest geschlossen
URL:https://spatzennest-penzberg.de/termine/paed-plantag/
CATEGORIES:Spatzennest
END:VEVENT
BEGIN:VEVENT
DTSTART;VALUE=DATE:20250811
DTEND;VALUE=DATE:20250823
DTSTAMP:20260424T112035
CREATED:20250129T084817Z
LAST-MODIFIED:20250129T084817Z
UID:2145-1754870400-1755907199@spatzennest-penzberg.de
SUMMARY:Sommerschließzeit
DESCRIPTION:Spatzennest geschlossen
URL:https://spatzennest-penzberg.de/termine/sommerschliesszeit-3/
CATEGORIES:Spatzennest
END:VEVENT
BEGIN:VEVENT
DTSTART;VALUE=DATE:20250808
DTEND;VALUE=DATE:20250809
DTSTAMP:20260424T112035
CREATED:20250521T065908Z
LAST-MODIFIED:20250521T070052Z
UID:2279-1754611200-1754697599@spatzennest-penzberg.de
SUMMARY:Schließtag Krippe
DESCRIPTION:
URL:https://spatzennest-penzberg.de/termine/schliesstag-krippe/
CATEGORIES:Kinderkrippe
END:VEVENT
BEGIN:VEVENT
DTSTART;VALUE=DATE:20250627
DTEND;VALUE=DATE:20250628
DTSTAMP:20260424T112035
CREATED:20250328T074942Z
LAST-MODIFIED:20250328T075023Z
UID:2253-1750982400-1751068799@spatzennest-penzberg.de
SUMMARY:Betriebsausflug
DESCRIPTION:Spatzennest geschlossen
URL:https://spatzennest-penzberg.de/termine/betriebsausflug-2/
CATEGORIES:Kindergarten,Kinderkrippe,Spatzennest
END:VEVENT
BEGIN:VEVENT
DTSTART;VALUE=DATE:20250620
DTEND;VALUE=DATE:20250621
DTSTAMP:20260424T112035
CREATED:20250129T084737Z
LAST-MODIFIED:20250129T084737Z
UID:2143-1750377600-1750463999@spatzennest-penzberg.de
SUMMARY:Brückentag
DESCRIPTION:Spatzennest geschlossen
URL:https://spatzennest-penzberg.de/termine/brueckentag-4/
CATEGORIES:Spatzennest
END:VEVENT
BEGIN:VEVENT
DTSTART;TZID=Europe/Berlin:20250523T150000
DTEND;TZID=Europe/Berlin:20250523T170000
DTSTAMP:20260424T112035
CREATED:20250221T084011Z
LAST-MODIFIED:20250221T084113Z
UID:2226-1748012400-1748019600@spatzennest-penzberg.de
SUMMARY:Maifest
DESCRIPTION:Spatzennest ab 14:00 Uhr geschlossen \nMaifest für Krippe & Kindergarten beginnt um 15:00 Uhr
URL:https://spatzennest-penzberg.de/termine/maifest-3/
CATEGORIES:Kindergarten,Kinderkrippe,Spatzennest
END:VEVENT
BEGIN:VEVENT
DTSTART;VALUE=DATE:20250512
DTEND;VALUE=DATE:20250514
DTSTAMP:20260424T112035
CREATED:20250129T083536Z
LAST-MODIFIED:20250129T084309Z
UID:2128-1747008000-1747180799@spatzennest-penzberg.de
SUMMARY:Teamfortbildung
DESCRIPTION:Spatzennest geschlossen
URL:https://spatzennest-penzberg.de/termine/teamfortbildung/
CATEGORIES:Spatzennest
END:VEVENT
BEGIN:VEVENT
DTSTART;VALUE=DATE:20250502
DTEND;VALUE=DATE:20250503
DTSTAMP:20260424T112035
CREATED:20250129T084626Z
LAST-MODIFIED:20250129T084626Z
UID:2141-1746144000-1746230399@spatzennest-penzberg.de
SUMMARY:Brückentag
DESCRIPTION:Spatzennest geschlossen
URL:https://spatzennest-penzberg.de/termine/brueckentag-3/
CATEGORIES:Spatzennest
END:VEVENT
BEGIN:VEVENT
DTSTART;VALUE=DATE:20250410
DTEND;VALUE=DATE:20250411
DTSTAMP:20260424T112035
CREATED:20250129T084214Z
LAST-MODIFIED:20250129T084214Z
UID:2139-1744243200-1744329599@spatzennest-penzberg.de
SUMMARY:Der Osterhase kommt
DESCRIPTION:
URL:https://spatzennest-penzberg.de/termine/der-osterhase-kommt/
CATEGORIES:Spatzennest
END:VEVENT
BEGIN:VEVENT
DTSTART;VALUE=DATE:20250228
DTEND;VALUE=DATE:20250301
DTSTAMP:20260424T112035
CREATED:20250129T084107Z
LAST-MODIFIED:20250129T084107Z
UID:2137-1740700800-1740787199@spatzennest-penzberg.de
SUMMARY:Faschingsdisco
DESCRIPTION:
URL:https://spatzennest-penzberg.de/termine/faschingsdisco/
CATEGORIES:Spatzennest
END:VEVENT
BEGIN:VEVENT
DTSTART;VALUE=DATE:20250227
DTEND;VALUE=DATE:20250228
DTSTAMP:20260424T112035
CREATED:20250129T083726Z
LAST-MODIFIED:20250129T084023Z
UID:2131-1740614400-1740700799@spatzennest-penzberg.de
SUMMARY:Fasching aufwecken (Schlafanzugtag)
DESCRIPTION:
URL:https://spatzennest-penzberg.de/termine/fasching-aufwecken/
CATEGORIES:Spatzennest
END:VEVENT
BEGIN:VEVENT
DTSTART;TZID=Europe/Berlin:20250222T090000
DTEND;TZID=Europe/Berlin:20250222T120000
DTSTAMP:20260424T112035
CREATED:20241111T095632Z
LAST-MODIFIED:20250129T084356Z
UID:2007-1740214800-1740225600@spatzennest-penzberg.de
SUMMARY:Tag der offenen Tür
DESCRIPTION:
URL:https://spatzennest-penzberg.de/termine/tag-der-offenen-tuer-2/
CATEGORIES:Spatzennest
END:VEVENT
BEGIN:VEVENT
DTSTART;VALUE=DATE:20241223
DTEND;VALUE=DATE:20250104
DTSTAMP:20260424T112035
CREATED:20220807T083020Z
LAST-MODIFIED:20240108T104041Z
UID:738-1734912000-1735948799@spatzennest-penzberg.de
SUMMARY:Weihnachtsschließzeit
DESCRIPTION:Kita geschlossen
URL:https://spatzennest-penzberg.de/termine/weihnachtsschliesszeit/
CATEGORIES:Kindergarten,Kinderkrippe,Spatzennest
END:VEVENT
BEGIN:VEVENT
DTSTART;VALUE=DATE:20240902
DTEND;VALUE=DATE:20240903
DTSTAMP:20260424T112035
CREATED:20230321T140929Z
LAST-MODIFIED:20240108T103923Z
UID:1069-1725235200-1725321599@spatzennest-penzberg.de
SUMMARY:pädagogischer Plantag
DESCRIPTION:Einrichtung geschlossen
URL:https://spatzennest-penzberg.de/termine/paedagogischer-plantag-2/
CATEGORIES:Kindergarten,Kinderkrippe,Spatzennest
END:VEVENT
BEGIN:VEVENT
DTSTART;VALUE=DATE:20240816
DTEND;VALUE=DATE:20240831
DTSTAMP:20260424T112035
CREATED:20220807T083918Z
LAST-MODIFIED:20240108T104108Z
UID:740-1723766400-1725062399@spatzennest-penzberg.de
SUMMARY:Sommerschließzeit
DESCRIPTION:Kita geschlossen
URL:https://spatzennest-penzberg.de/termine/sommerschliesszeit-2/
CATEGORIES:Kindergarten,Kinderkrippe,Spatzennest
END:VEVENT
BEGIN:VEVENT
DTSTART;VALUE=DATE:20240719
DTEND;VALUE=DATE:20240720
DTSTAMP:20260424T112035
CREATED:20231027T090005Z
LAST-MODIFIED:20231027T090005Z
UID:1465-1721347200-1721433599@spatzennest-penzberg.de
SUMMARY:Abschiedsfest der Vorschulkinder
DESCRIPTION:
URL:https://spatzennest-penzberg.de/termine/abschiedsfest-der-vorschulkinder/
CATEGORIES:Kindergarten
END:VEVENT
BEGIN:VEVENT
DTSTART;VALUE=DATE:20240705
DTEND;VALUE=DATE:20240706
DTSTAMP:20260424T112035
CREATED:20220413T082950Z
LAST-MODIFIED:20240115T142018Z
UID:427-1720137600-1720223999@spatzennest-penzberg.de
SUMMARY:Betriebsausflug
DESCRIPTION:Kita geschlossen
URL:https://spatzennest-penzberg.de/termine/betriebsausflug/
CATEGORIES:Kindergarten,Kinderkrippe,Spatzennest
END:VEVENT
BEGIN:VEVENT
DTSTART;VALUE=DATE:20240527
DTEND;VALUE=DATE:20240601
DTSTAMP:20260424T112035
CREATED:20230321T141028Z
LAST-MODIFIED:20240108T104139Z
UID:1071-1716768000-1717199999@spatzennest-penzberg.de
SUMMARY:Pfingstferien
DESCRIPTION:Einrichtung geschlossen
URL:https://spatzennest-penzberg.de/termine/konzeptionstag/
CATEGORIES:Kindergarten,Kinderkrippe,Spatzennest
END:VEVENT
BEGIN:VEVENT
DTSTART;VALUE=DATE:20240510
DTEND;VALUE=DATE:20240511
DTSTAMP:20260424T112035
CREATED:20220413T082812Z
LAST-MODIFIED:20240108T104158Z
UID:425-1715299200-1715385599@spatzennest-penzberg.de
SUMMARY:Brückentag
DESCRIPTION:Einrichtung geschlossen
URL:https://spatzennest-penzberg.de/termine/brueckentag/
CATEGORIES:Kindergarten,Kinderkrippe,Spatzennest
END:VEVENT
BEGIN:VEVENT
DTSTART;VALUE=DATE:20240503
DTEND;VALUE=DATE:20240504
DTSTAMP:20260424T112035
CREATED:20231027T085923Z
LAST-MODIFIED:20240108T104217Z
UID:1463-1714694400-1714780799@spatzennest-penzberg.de
SUMMARY:Maifest
DESCRIPTION:
URL:https://spatzennest-penzberg.de/termine/maifest-2/
CATEGORIES:Kindergarten,Kinderkrippe,Spatzennest
END:VEVENT
END:VCALENDAR